BEGIN:VCALENDAR
VERSION:2.0
PRODID:-//Maryland Coastal Bays Program - ECPv6.0.11//NONSGML v1.0//EN
CALSCALE:GREGORIAN
METHOD:PUBLISH
X-WR-CALNAME:Maryland Coastal Bays Program
X-ORIGINAL-URL:https://mdcoastalbays.org
X-WR-CALDESC:Events for Maryland Coastal Bays Program
REFRESH-INTERVAL;VALUE=DURATION:PT1H
X-Robots-Tag:noindex
X-PUBLISHED-TTL:PT1H
BEGIN:VTIMEZONE
TZID:America/New_York
BEGIN:DAYLIGHT
TZOFFSETFROM:-0500
TZOFFSETTO:-0400
TZNAME:EDT
DTSTART:20240310T070000
END:DAYLIGHT
BEGIN:STANDARD
TZOFFSETFROM:-0400
TZOFFSETTO:-0500
TZNAME:EST
DTSTART:20241103T060000
END:STANDARD
END:VTIMEZONE
BEGIN:VEVENT
DTSTART;TZID=America/New_York:20240501T153000
DTEND;TZID=America/New_York:20240501T163000
DTSTAMP:20260421T095432
CREATED:20240313T135325Z
LAST-MODIFIED:20240313T135504Z
UID:3795-1714577400-1714581000@mdcoastalbays.org
SUMMARY:Horseshoe Crab Recovery Team Training
DESCRIPTION:The Maryland Coastal Bays Program is looking for dedicated volunteers to join the Stranded Spawning Horseshoe Crab Recovery Team. Volunteers will be responsible for routinely checking popular spawning grounds to rescue stranded or flipped horseshoe crabs during the spawning season from May to July. This volunteer program helps prevent mass casualties of horseshoe crabs and allows us to better understand stranding patterns throughout the Coastal Bays. Register to become a volunteer Here
URL:https://mdcoastalbays.org/event/horseshoe-crab-recovery-team-training/
LOCATION:Sarbanes Center\, 6695-6699 Verrazano Bridge\, Berlin\, MD\, 21811\, United States
CATEGORIES:Events,Outreach,Programs
END:VEVENT
END:VCALENDAR