BEGIN:VCALENDAR
VERSION:2.0
PRODID:-//Maryland Coastal Bays Program - ECPv6.0.11//NONSGML v1.0//EN
CALSCALE:GREGORIAN
METHOD:PUBLISH
X-WR-CALNAME:Maryland Coastal Bays Program
X-ORIGINAL-URL:https://mdcoastalbays.org
X-WR-CALDESC:Events for Maryland Coastal Bays Program
REFRESH-INTERVAL;VALUE=DURATION:PT1H
X-Robots-Tag:noindex
X-PUBLISHED-TTL:PT1H
BEGIN:VTIMEZONE
TZID:America/New_York
BEGIN:DAYLIGHT
TZOFFSETFROM:-0500
TZOFFSETTO:-0400
TZNAME:EDT
DTSTART:20250309T070000
END:DAYLIGHT
BEGIN:STANDARD
TZOFFSETFROM:-0400
TZOFFSETTO:-0500
TZNAME:EST
DTSTART:20251102T060000
END:STANDARD
END:VTIMEZONE
BEGIN:VEVENT
DTSTART;TZID=America/New_York:20250502T163000
DTEND;TZID=America/New_York:20250502T190000
DTSTAMP:20260419T092317
CREATED:20250417T200319Z
LAST-MODIFIED:20250417T200319Z
UID:4213-1746203400-1746212400@mdcoastalbays.org
SUMMARY:The Atlantic Bay Scallop
DESCRIPTION:Come learn about the history and the future of the Atlantic Bay scallop from leading experts from the Virginia Institute of Marine Science\, University of the Eastern Shore\, and the Department of Natural Resources. \nParticipants will have the opportunity to learn about bay scallops aquaculture and a limited amount of participants will be able to take a boat ride out to the aquaculture location to experience it from the water. Register HERE
URL:https://mdcoastalbays.org/event/the-atlantic-bay-scallop/
LOCATION:Baywater Landing Marina
CATEGORIES:Events,Outreach,Programs
END:VEVENT
END:VCALENDAR