BEGIN:VCALENDAR
VERSION:2.0
PRODID:-//Maryland Coastal Bays Program - ECPv6.0.11//NONSGML v1.0//EN
CALSCALE:GREGORIAN
METHOD:PUBLISH
X-WR-CALNAME:Maryland Coastal Bays Program
X-ORIGINAL-URL:https://mdcoastalbays.org
X-WR-CALDESC:Events for Maryland Coastal Bays Program
REFRESH-INTERVAL;VALUE=DURATION:PT1H
X-Robots-Tag:noindex
X-PUBLISHED-TTL:PT1H
BEGIN:VTIMEZONE
TZID:America/New_York
BEGIN:DAYLIGHT
TZOFFSETFROM:-0500
TZOFFSETTO:-0400
TZNAME:EDT
DTSTART:20200308T070000
END:DAYLIGHT
BEGIN:STANDARD
TZOFFSETFROM:-0400
TZOFFSETTO:-0500
TZNAME:EST
DTSTART:20201101T060000
END:STANDARD
BEGIN:DAYLIGHT
TZOFFSETFROM:-0500
TZOFFSETTO:-0400
TZNAME:EDT
DTSTART:20210314T070000
END:DAYLIGHT
BEGIN:STANDARD
TZOFFSETFROM:-0400
TZOFFSETTO:-0500
TZNAME:EST
DTSTART:20211107T060000
END:STANDARD
BEGIN:DAYLIGHT
TZOFFSETFROM:-0500
TZOFFSETTO:-0400
TZNAME:EDT
DTSTART:20220313T070000
END:DAYLIGHT
BEGIN:STANDARD
TZOFFSETFROM:-0400
TZOFFSETTO:-0500
TZNAME:EST
DTSTART:20221106T060000
END:STANDARD
BEGIN:DAYLIGHT
TZOFFSETFROM:-0500
TZOFFSETTO:-0400
TZNAME:EDT
DTSTART:20230312T070000
END:DAYLIGHT
BEGIN:STANDARD
TZOFFSETFROM:-0400
TZOFFSETTO:-0500
TZNAME:EST
DTSTART:20231105T060000
END:STANDARD
END:VTIMEZONE
BEGIN:VEVENT
DTSTART;TZID=America/New_York:20230220T090000
DTEND;TZID=America/New_York:20230220T113000
DTSTAMP:20260421T060652
CREATED:20230119T153917Z
LAST-MODIFIED:20230127T153327Z
UID:3134-1676883600-1676892600@mdcoastalbays.org
SUMMARY:The Great Backyard Bird Count
DESCRIPTION:Join Maryland Coastal Bays Program for the annual Great Backyard Bird Count at Heron Park.\n\n\nEach February\, data collected from participants of the Great Backyard Bird Count are utilized by the Cornell Lab of Ornithology and the National Audubon Society to better understand global populations prior to Spring migration. \n\n\nMCBP’s Archer Larned and Kim Abplanalp will lead a group at the park.  A few species we may come across include the American Wigeon\, White Throated Sparrow\, and Pied-billed Grebe. We’ll also likely see a variety of waterfowl and forest birds\, and possibly eagles and other raptors!\n\n So\, grab your cold weather gear\, some sturdy boots\, and your binoculars! \nTo learn more about the Great Backyard Bird Count\, visit https://www.birdcount.org/. \nWe will have fresh hot coffee on site. \nTo save on disposables\, please remember to bring a personal mug. \nContact Archer Larned at alarned@mdcoastalbays.org for additional information\n\n\n \nSpace is limited so please Register Here\n\n\n \nHeron Park
URL:https://mdcoastalbays.org/event/the-great-backyard-bird-count/
LOCATION:Heron Park\, 10009 Old Ocean City Blvd\, Berlin\, Maryland\, 21811
CATEGORIES:Events,Outreach,Programs
END:VEVENT
BEGIN:VEVENT
DTSTART;TZID=America/New_York:20221006T140000
DTEND;TZID=America/New_York:20221006T160000
DTSTAMP:20260421T060652
CREATED:20220203T221006Z
LAST-MODIFIED:20220727T151430Z
UID:2244-1665064800-1665072000@mdcoastalbays.org
SUMMARY:Lizard Hill Wetland Restoration Site Invasive Species Removal.
DESCRIPTION:Join us on Thursday\, October 6 from 2-4 pm at the Lizard Hill Wetland Restoration site for an invasive vine and tree removal. Led by MCBP staff\, this free\, volunteer event is a great opportunity to give back to the Coastal Bays! \nRegister here
URL:https://mdcoastalbays.org/event/lizard-hill-wetland-restoration-site-invasive-species-removal/
LOCATION:Maryland
CATEGORIES:Events,Outreach,Programs
END:VEVENT
BEGIN:VEVENT
DTSTART;TZID=America/New_York:20220912T140000
DTEND;TZID=America/New_York:20220912T160000
DTSTAMP:20260421T060652
CREATED:20220203T220719Z
LAST-MODIFIED:20220727T151517Z
UID:2242-1662991200-1662998400@mdcoastalbays.org
SUMMARY:Discover Your Watershed
DESCRIPTION:Join us on Monday\, September 12 from 2-4 pm for MCBP’s Discover Your Watershed at the Lewis Road Kayak Launch. We will be removing invasive wisteria from the site\, in addition to kayaking Ayers Creek to learn about our local ecosystems! Led by MCBP staff\, this free\, volunteer event is a great opportunity to give back to the Coastal Bays!\nRegister here
URL:https://mdcoastalbays.org/event/discover-your-watershed-6/
LOCATION:Maryland
CATEGORIES:Events,Outreach,Programs
END:VEVENT
BEGIN:VEVENT
DTSTART;TZID=America/New_York:20220804T080000
DTEND;TZID=America/New_York:20220804T100000
DTSTAMP:20260421T060652
CREATED:20220203T220316Z
LAST-MODIFIED:20220727T151558Z
UID:2240-1659600000-1659607200@mdcoastalbays.org
SUMMARY:Lewis Road Kayak Launch Road Clean Up
DESCRIPTION:Join us on Thursday\, August 4 from 8-10 am at the Lewis Road Kayak Launch for a litter clean up along the neighboring road. Led by MCBP staff\, this free\, volunteer event is a great opportunity to give back to the Coastal Bays! \nRegister here
URL:https://mdcoastalbays.org/event/lewis-road-kayak-launch-road-clean-up/
LOCATION:Maryland
CATEGORIES:Events,Outreach,Programs
END:VEVENT
BEGIN:VEVENT
DTSTART;TZID=America/New_York:20220712T183000
DTEND;TZID=America/New_York:20220712T203000
DTSTAMP:20260421T060652
CREATED:20220701T163905Z
LAST-MODIFIED:20220701T164603Z
UID:2529-1657650600-1657657800@mdcoastalbays.org
SUMMARY:Evening Paddle on Ayers Creek
DESCRIPTION:Join us for a 1-hour guided evening kayak program on Ayers Creek led by Maryland Coastal Bays Program staff in partnership with Ayers Creek Adventures. While out on the water\, we will learn about some of the creatures that call our watershed home\, and explore changes in the environment at dusk! \n\nThis program will take place at Ayers Creek Adventures in Berlin\, MD. Feel free to bring your own kayak\, or rent one. To register and pay\, click on this link: https://forms.gle/PPeJKE63ju5Q5doq5. \n\nIf you have any questions about registering for the program\, please email Katie Kavanagh at kkavanagh@mdcoastalbays.org.
URL:https://mdcoastalbays.org/event/evening-paddle-on-ayers-creek/
LOCATION:Maryland
CATEGORIES:Events,Outreach,Programs
END:VEVENT
BEGIN:VEVENT
DTSTART;TZID=America/New_York:20220506T013000
DTEND;TZID=America/New_York:20220506T153000
DTSTAMP:20260421T060652
CREATED:20220422T180447Z
LAST-MODIFIED:20220422T180447Z
UID:2404-1651800600-1651851000@mdcoastalbays.org
SUMMARY:The Outstanding Oyster
DESCRIPTION:Please join us for an afternoon of learning about the history of oysters in our Coastal Bays\, the importance of them to our watershed\, and current citizen-led efforts to help understand and restore these amazing creatures. \nThis program will take place at Archer Oyster Company in George Island Landing on Friday\, May 6th from 1:30-3:00 pm. Participants will learn about oyster from MCBP staff\, take a tour of Archer Oyster Company\, led by owner Jess Baunhofer\, and learn about the Oyster Gardening Program and other oyster conservation efforts from Joe and Gail Jankowski with Protectors of the St. Martin River. \nTo click   here
URL:https://mdcoastalbays.org/event/the-outstanding-oyster/
LOCATION:Maryland
CATEGORIES:Events,Outreach,Programs
END:VEVENT
BEGIN:VEVENT
DTSTART;TZID=America/New_York:20210930T163000
DTEND;TZID=America/New_York:20210930T220000
DTSTAMP:20260421T060652
CREATED:20210527T212029Z
LAST-MODIFIED:20211006T204307Z
UID:1743-1633019400-1633039200@mdcoastalbays.org
SUMMARY:Movie Night to Celebrate the Bays
DESCRIPTION:Get Tickets\n\nShould you experience any difficulties purchasing tickets online\, please contact us at mcbp@mdcoastalbays.org or call 410-213-2297 ext 106. Thank you.\n \nRain/Wind Date: October 7\, 2021. \nMaryland Coastal Bay Programs is excited to be hosting an outdoor movie night for our 25th-anniversary event at the Windmill Creek Winery & Vineyard.  Bring the whole family to enjoy an outdoor feature film: The Biggest Little Farm plus a few shorts. Producer John Chester will be providing a special video introduction just for this event. \nIn addition to the movies\, there will be an MCBP Showcase Tent of fun activities related to our projects with living plants and watershed creatures\, wave and wind simulations\, dress-up-like-a-field-scientist\, a real oyster cage\, and our nesting platform model. There will also be an extensive silent auction with over 50 items of artwork\, gift certificates\, and baskets (see the partial list here). And\, of course\, lots of good food and drink with music by Margo and Company. We’ll see you there for another fun MCBP event! \nPlease remember to bring your folding chairs and dress for a chilly evening! \n$20 Adults | Kids Free \nFood | Wine | Music | Silent Auction | Kids Activities | MCBP Showcase
URL:https://mdcoastalbays.org/event/movie-night-to-celebrate-the-bays/
LOCATION:Windmill Creek Vineyard & Winery\, 11206 Worcester Hwy\, Berlin
CATEGORIES:Events,Outreach,Programs
END:VEVENT
BEGIN:VEVENT
DTSTART;VALUE=DATE:20210601
DTEND;VALUE=DATE:20210701
DTSTAMP:20260421T060652
CREATED:20210119T151340Z
LAST-MODIFIED:20210701T212241Z
UID:1399-1622505600-1625097599@mdcoastalbays.org
SUMMARY:Give-A-Day for the Bays:Horseshoe Crabs
DESCRIPTION:This month we honor the Horseshoe Crabs\, have you seen them at the beach yet? \nMCBP assists the Department of Natural Resources with an annual horseshoe survey. Click here for more details. \nJune marks the beginning of spawning season for these amazing prehistoric inhabitants of our waterways. And this species has been saving our lives for decades. Their blood reacts strongly to bacterial infections and is used to test for bacterial contamination of medical equipment-like that syringe that gave you your covid shot. \nRight now the International Union for Conservation of Nature lists the Atlantic horseshoe crab as ‘vulnerable’\, just one step below endangered. \nSo for this month\, and for the rest of the summer\, you can help horseshoe crabs in you own small way. If you find one on the beach that’s been flipped upside down\, turn it righ side up so it can go on its way. For creatures that have been saving our lives for decades\, it’s the least we can do. \nCheck out the  Just flip ’em!™ program.  It is a great program designed to bring attention to the hundreds of thousands of horseshoe crabs (Limulus polyphemus) who die each year from stranding (stuck upside down) during their yearly spawning ritual and to encourage individuals\, through a simple act of compassion\, to take the time to assist and appreciate these remarkable creatures. \nJust flip ’em™ Program – Horseshoe Crab
URL:https://mdcoastalbays.org/event/horseshoe-crabs/
LOCATION:Maryland
CATEGORIES:Events,Outreach,Programs
END:VEVENT
BEGIN:VEVENT
DTSTART;VALUE=DATE:20210301
DTEND;VALUE=DATE:20210401
DTSTAMP:20260421T060652
CREATED:20210115T005337Z
LAST-MODIFIED:20210601T163919Z
UID:1386-1614556800-1617235199@mdcoastalbays.org
SUMMARY:Give-A-Day to the Bays:Market Madness
DESCRIPTION:It’s Market Madness Month – Support your local farmer markets and watermen \n\nAs we head into Spring\, for this month’s “Give-A-Day” back to MCBP\, we encourage you to explore our watershed’s local farmer and seafood markets for your spring and summer cravings! \nWhen possible\, buying food from local sources is a great way to reduce environmental impact. Local farmers and watermen implement practices that show care and commitment to protecting our local environment while providing the community with safe and accessible food options. Our encouragement for you this month is to simply explore the local food source options around you and attempt to engage with the local farmers who may be your very own neighbor! Included below is a link to MCBP’s Living Local project – an environmental education initiative designed to educate the community about the beneficial environmental impacts of sustainable farming practices and encourage the consumption of local products. Below you will also find a list of local markets\, this list is not comprehensive\, and we encourage you to explore all of the potential market options near you! \nPlease visit: https://mdcoastalbays.org/the-programs/education/community-programs-and-resources/living-local/ to learn about five local farms and where to find their products and contact information. \n  \nLocal Farmer’s Markets \nOcean Pines Farmers and Artisan Market \nWhite Horse Park\, Ocean Pines\, MD \nYear Round \nSaturdays \n9:00am – 1:00pm through March 27 \n8:00am – 1:00pm beginning April 3 \n\nCamden Avenue Farmers Market \n1401 Camden Avenue\, Salisbury\, MD \nYear Round \nTuesdays\, 2:30 – 5:30 pm \n\nBerlin Farmers Market \nPitts and Commerce St.\, Berlin\, MD \nMay – September \nSundays\, 9:00 am – 1:00 pm \n\nLocal Seafood \nMartin Fish Co. \n12929 Harbor Road\, Ocean City\, MD \n410-213-2195 \nSeaborn \n12906 Harbor Road\, Ocean City\, MD \nThursday-Sunday 443-235-3448 or 443-397-2216 \nSkilligalee Seafood \nWest Ocean City Harbor \n443-235-1489
URL:https://mdcoastalbays.org/event/market-madness/
LOCATION:Maryland
CATEGORIES:Events,Outreach,Programs
END:VEVENT
BEGIN:VEVENT
DTSTART;TZID=America/New_York:20200630T080000
DTEND;TZID=America/New_York:20200630T170000
DTSTAMP:20260421T060652
CREATED:20200427T162709Z
LAST-MODIFIED:20200514T160403Z
UID:517-1593504000-1593536400@mdcoastalbays.org
SUMMARY:Earth Day Clean Up OC
DESCRIPTION:Join us and celebrate 50 years of Earth Day by picking up trash before it goes into our beach and bays. We’ll provide you with supplies and shirts while supplies last. For more information email sandis@mdcoastalbays.org.
URL:https://mdcoastalbays.org/event/earth-day-clean-up-oc/
LOCATION:Ocean City Town Hall\, 101 3rd Street\, Ocean City\, MD\, 21842\, United States
CATEGORIES:Outreach
ATTACH;FMTTYPE=image/jpeg:/app/uploads/2020/03/earthday-1.jpg
END:VEVENT
END:VCALENDAR